BEGIN:VCALENDAR
VERSION:2.0
PRODID:-//Cedar Pointe Condos - ECPv6.15.20//NONSGML v1.0//EN
CALSCALE:GREGORIAN
METHOD:PUBLISH
X-WR-CALNAME:Cedar Pointe Condos
X-ORIGINAL-URL:https://cedarpointecondos.net
X-WR-CALDESC:Events for Cedar Pointe Condos
REFRESH-INTERVAL;VALUE=DURATION:PT1H
X-Robots-Tag:noindex
X-PUBLISHED-TTL:PT1H
BEGIN:VTIMEZONE
TZID:America/New_York
BEGIN:DAYLIGHT
TZOFFSETFROM:-0500
TZOFFSETTO:-0400
TZNAME:EDT
DTSTART:20230312T070000
END:DAYLIGHT
BEGIN:STANDARD
TZOFFSETFROM:-0400
TZOFFSETTO:-0500
TZNAME:EST
DTSTART:20231105T060000
END:STANDARD
BEGIN:DAYLIGHT
TZOFFSETFROM:-0500
TZOFFSETTO:-0400
TZNAME:EDT
DTSTART:20240310T070000
END:DAYLIGHT
BEGIN:STANDARD
TZOFFSETFROM:-0400
TZOFFSETTO:-0500
TZNAME:EST
DTSTART:20241103T060000
END:STANDARD
BEGIN:DAYLIGHT
TZOFFSETFROM:-0500
TZOFFSETTO:-0400
TZNAME:EDT
DTSTART:20250309T070000
END:DAYLIGHT
BEGIN:STANDARD
TZOFFSETFROM:-0400
TZOFFSETTO:-0500
TZNAME:EST
DTSTART:20251102T060000
END:STANDARD
BEGIN:DAYLIGHT
TZOFFSETFROM:-0500
TZOFFSETTO:-0400
TZNAME:EDT
DTSTART:20260308T070000
END:DAYLIGHT
BEGIN:STANDARD
TZOFFSETFROM:-0400
TZOFFSETTO:-0500
TZNAME:EST
DTSTART:20261101T060000
END:STANDARD
BEGIN:DAYLIGHT
TZOFFSETFROM:-0500
TZOFFSETTO:-0400
TZNAME:EDT
DTSTART:20270314T070000
END:DAYLIGHT
BEGIN:STANDARD
TZOFFSETFROM:-0400
TZOFFSETTO:-0500
TZNAME:EST
DTSTART:20271107T060000
END:STANDARD
END:VTIMEZONE
BEGIN:VEVENT
DTSTART;TZID=America/New_York:20260411T100000
DTEND;TZID=America/New_York:20260411T110000
DTSTAMP:20260421T153849
CREATED:20260411T151015Z
LAST-MODIFIED:20260411T151022Z
UID:312-1775901600-1775905200@cedarpointecondos.net
SUMMARY:2026 Annual Meeting
DESCRIPTION:Held via Zoom with mail-in ballots for election of board members.
URL:https://cedarpointecondos.net/event/annual-meeting/
END:VEVENT
BEGIN:VEVENT
DTSTART;TZID=America/New_York:20251110T190000
DTEND;TZID=America/New_York:20251110T203000
DTSTAMP:20260421T153849
CREATED:20241115T195831Z
LAST-MODIFIED:20241115T195831Z
UID:239-1762801200-1762806600@cedarpointecondos.net
SUMMARY:November 2025 Board of Directors Meeting
DESCRIPTION:
URL:https://cedarpointecondos.net/event/november-2025-board-of-directors-meeting/
CATEGORIES:Board Meetings
END:VEVENT
BEGIN:VEVENT
DTSTART;TZID=America/New_York:20250908T190000
DTEND;TZID=America/New_York:20250908T203000
DTSTAMP:20260421T153849
CREATED:20241115T195801Z
LAST-MODIFIED:20241115T195801Z
UID:237-1757358000-1757363400@cedarpointecondos.net
SUMMARY:September 2025 Board of Directors Meeting
DESCRIPTION:
URL:https://cedarpointecondos.net/event/september-2025-board-of-directors-meeting/
CATEGORIES:Board Meetings
END:VEVENT
BEGIN:VEVENT
DTSTART;TZID=America/New_York:20250714T190000
DTEND;TZID=America/New_York:20250714T203000
DTSTAMP:20260421T153849
CREATED:20241115T195735Z
LAST-MODIFIED:20241115T195735Z
UID:235-1752519600-1752525000@cedarpointecondos.net
SUMMARY:July 2025 Board of Directors Meeting
DESCRIPTION:
URL:https://cedarpointecondos.net/event/july-2025-board-of-directors-meeting/
CATEGORIES:Board Meetings
END:VEVENT
BEGIN:VEVENT
DTSTART;TZID=America/New_York:20250602T080000
DTEND;TZID=America/New_York:20250603T170000
DTSTAMP:20260421T153849
CREATED:20250526T232452Z
LAST-MODIFIED:20250526T232452Z
UID:285-1748851200-1748970000@cedarpointecondos.net
SUMMARY:Gutter Cleaning
DESCRIPTION:Gutter cleaning is scheduled to take place on June 2–3\, weather permitting. To help ensure a smooth and efficient process\, please review the following important reminders: \n\n\n\nVehicles\n\n\n\n\nPlease make sure all vehicles are parked at least 12 feet away from the front gutters during the work hours. This will give the crew the necessary space to safely access and clean the gutters.\n\n\n\n\nDeck Areas\n\n\n\n\nThe crew will be working in and around your rear decks. If you have any valuables or items you do not want disturbed\, please move them indoors between 8:00 AM and 5:00 PM on both days.\n\n\n\n\nGates\n\n\n\nIf your unit has a rear gate\, please ensure it is unlocked to allow the crew proper access to complete the cleaning and any necessary cleanup.
URL:https://cedarpointecondos.net/event/gutter-cleaning/
END:VEVENT
BEGIN:VEVENT
DTSTART;TZID=America/New_York:20250512T190000
DTEND;TZID=America/New_York:20250512T203000
DTSTAMP:20260421T153849
CREATED:20241115T195555Z
LAST-MODIFIED:20241115T195614Z
UID:232-1747076400-1747081800@cedarpointecondos.net
SUMMARY:May 2025 Board of Directors Meeting
DESCRIPTION:
URL:https://cedarpointecondos.net/event/january-2025-board-of-directors-meeting-2/
CATEGORIES:Board Meetings
END:VEVENT
BEGIN:VEVENT
DTSTART;TZID=America/New_York:20250421T000000
DTEND;TZID=America/New_York:20250426T235959
DTSTAMP:20260421T153849
CREATED:20250412T194624Z
LAST-MODIFIED:20250414T200736Z
UID:268-1745193600-1745711999@cedarpointecondos.net
SUMMARY:Spring 2025 Power Washing
DESCRIPTION:Monday (4/21) – Building 100 \n\n\n\nTuesday (4/22) – Building 300 \n\n\n\nWednesday (4/23) – Building 500 \n\n\n\nThursday (4/24) – Building 700 \n\n\n\nFriday (4/25) – Buildings 600 and 900 \n\n\n\nSaturday (4/26) – Remaining curbing and dumpster enclosure \n\n\n\nWe kindly ask that any personal belongings placed in front of units be temporarily removed to allow access for thorough cleaning. While every effort will be made to minimize inconvenience\, your cooperation in this matter is greatly appreciated. \n\n\n\nAdditional Information About the Power Washing\n\n\n\n\nWe recommend removing vehicles parked near buildings or curbs to avoid any overspray or residue.\n\n\n\nThe cleaning will help maintain the overall appearance and curb appeal of the community.\n\n\n\nThe pressure washing process will use water and environmentally friendly cleaning agents that are safe for landscaping and surfaces.\n\n\n\nPlease keep windows and doors closed during your scheduled cleaning day to prevent any water from entering the unit.\n\n\n\n\n\nMore Details
URL:https://cedarpointecondos.net/event/spring-2025-power-washing/
END:VEVENT
BEGIN:VEVENT
DTSTART;TZID=America/New_York:20250412T100000
DTEND;TZID=America/New_York:20250412T113000
DTSTAMP:20260421T153849
CREATED:20241115T195914Z
LAST-MODIFIED:20241115T195942Z
UID:241-1744452000-1744457400@cedarpointecondos.net
SUMMARY:Annual Meeting for Cedar Pointe Condos HOA
DESCRIPTION:
URL:https://cedarpointecondos.net/event/annual-meeting-for-cedar-pointe-condos-hoa/
CATEGORIES:Board Meetings
END:VEVENT
BEGIN:VEVENT
DTSTART;TZID=America/New_York:20250310T190000
DTEND;TZID=America/New_York:20250310T203000
DTSTAMP:20260421T153849
CREATED:20241115T195526Z
LAST-MODIFIED:20241115T195527Z
UID:230-1741633200-1741638600@cedarpointecondos.net
SUMMARY:March 2025 Board of Directors Meeting
DESCRIPTION:
URL:https://cedarpointecondos.net/event/march-2025-board-of-directors-meeting/
CATEGORIES:Board Meetings
END:VEVENT
BEGIN:VEVENT
DTSTART;TZID=America/New_York:20250113T190000
DTEND;TZID=America/New_York:20250113T203000
DTSTAMP:20260421T153849
CREATED:20241115T195431Z
LAST-MODIFIED:20241115T195450Z
UID:228-1736794800-1736800200@cedarpointecondos.net
SUMMARY:January 2025 Board of Directors Meeting
DESCRIPTION:
URL:https://cedarpointecondos.net/event/january-2025-board-of-directors-meeting/
CATEGORIES:Board Meetings
END:VEVENT
BEGIN:VEVENT
DTSTART;TZID=America/New_York:20241118T190000
DTEND;TZID=America/New_York:20241118T200000
DTSTAMP:20260421T153849
CREATED:20240814T020255Z
LAST-MODIFIED:20241115T200149Z
UID:202-1731956400-1731960000@cedarpointecondos.net
SUMMARY:November Board of Directors Meeting
DESCRIPTION:All residents and homeowners are welcome. \nMeeting Agenda (PDF)
URL:https://cedarpointecondos.net/event/november-board-of-directors-meeting/
LOCATION:Edgehill Farm Club House\, 391 Springfork Drive\, Cary\, NC\, 27513\, United States
CATEGORIES:Board Meetings
END:VEVENT
BEGIN:VEVENT
DTSTART;TZID=America/New_York:20240923T190000
DTEND;TZID=America/New_York:20240923T200000
DTSTAMP:20260421T153849
CREATED:20240713T225525Z
LAST-MODIFIED:20240917T164321Z
UID:111-1727118000-1727121600@cedarpointecondos.net
SUMMARY:September Board of Directors Meeting
DESCRIPTION:All residents and homeowners are welcome.
URL:https://cedarpointecondos.net/event/september-board-meeting/
LOCATION:Edgehill Farm Club House\, 391 Springfork Drive\, Cary\, NC\, 27513\, United States
CATEGORIES:Board Meetings
END:VEVENT
BEGIN:VEVENT
DTSTART;TZID=America/New_York:20240716T190000
DTEND;TZID=America/New_York:20240716T200000
DTSTAMP:20260421T153849
CREATED:20240713T225417Z
LAST-MODIFIED:20240713T225559Z
UID:107-1721156400-1721160000@cedarpointecondos.net
SUMMARY:July Board of Directors Meeting
DESCRIPTION:All residents and homeowners are welcome.
URL:https://cedarpointecondos.net/event/july-board-of-directors-meeting/
LOCATION:Edgehill Farm Club House\, 391 Springfork Drive\, Cary\, NC\, 27513\, United States
CATEGORIES:Board Meetings
END:VEVENT
BEGIN:VEVENT
DTSTART;TZID=America/New_York:20240715T000000
DTEND;TZID=America/New_York:20240816T235959
DTSTAMP:20260421T153849
CREATED:20240713T225733Z
LAST-MODIFIED:20240814T020110Z
UID:115-1721001600-1723852799@cedarpointecondos.net
SUMMARY:Retaining Wall Project
DESCRIPTION:Blue Ladder Construction will replace the timber retaining wall near buildings 600 and 900 beginning on July 15th. They will also replace a small section of wall behind building 600. \n\n\n\nDuring this project\, parking will be a challenge for everyone\, especially in the south end of our neighborhood. Stay out of all coned-off areas and relocate any vehicles you don’t use regularly to the lot near the dumpster enclosure. You may park in any guest parking spot but avoid parking directly across from the clubhouse during pool hours. \n\n\n\nThe project will be done in three sections\, A\, B\, and C. Please take a look at the attached diagram for details and dates. The schedule is subject to weather conditions and timely material delivery. We will send out schedule updates as needed. \n\n\n\nRetaining Wall SectionsDownload
URL:https://cedarpointecondos.net/event/retaining-wall-project/
CATEGORIES:Maintenance
END:VEVENT
END:VCALENDAR